BEGIN:VCALENDAR
VERSION:2.0
PRODID:-//Hundezentrum Dog For Fun - ECPv6.15.17.1//NONSGML v1.0//EN
CALSCALE:GREGORIAN
METHOD:PUBLISH
X-WR-CALNAME:Hundezentrum Dog For Fun
X-ORIGINAL-URL:https://hundezentrum-dog-for-fun.de
X-WR-CALDESC:Veranstaltungen für Hundezentrum Dog For Fun
REFRESH-INTERVAL;VALUE=DURATION:PT1H
X-Robots-Tag:noindex
X-PUBLISHED-TTL:PT1H
BEGIN:VTIMEZONE
TZID:Europe/Berlin
BEGIN:DAYLIGHT
TZOFFSETFROM:+0100
TZOFFSETTO:+0200
TZNAME:CEST
DTSTART:20250330T010000
END:DAYLIGHT
BEGIN:STANDARD
TZOFFSETFROM:+0200
TZOFFSETTO:+0100
TZNAME:CET
DTSTART:20251026T010000
END:STANDARD
BEGIN:DAYLIGHT
TZOFFSETFROM:+0100
TZOFFSETTO:+0200
TZNAME:CEST
DTSTART:20260329T010000
END:DAYLIGHT
BEGIN:STANDARD
TZOFFSETFROM:+0200
TZOFFSETTO:+0100
TZNAME:CET
DTSTART:20261025T010000
END:STANDARD
BEGIN:DAYLIGHT
TZOFFSETFROM:+0100
TZOFFSETTO:+0200
TZNAME:CEST
DTSTART:20270328T010000
END:DAYLIGHT
BEGIN:STANDARD
TZOFFSETFROM:+0200
TZOFFSETTO:+0100
TZNAME:CET
DTSTART:20271031T010000
END:STANDARD
END:VTIMEZONE
BEGIN:VEVENT
DTSTART;TZID=Europe/Berlin:20261025T100000
DTEND;TZID=Europe/Berlin:20261025T113000
DTSTAMP:20260425T024656
CREATED:20171105T224150Z
LAST-MODIFIED:20260408T200240Z
UID:3057-1792922400-1792927800@hundezentrum-dog-for-fun.de
SUMMARY:Begegnungstraining
DESCRIPTION:Probleme bei Hundebegegnungen? Und in unserer dörflichen Gegend kaum Möglichkeiten effektiv zu trainieren?! Dann kommt hier die Lösung: unser Begegnungstraining. Wir teilen uns in 2 Gruppen in Großem Abstand auf und werden immer wieder auf einzelne Hunde aus unserer Schule treffen. \nTreffpunkt: wird noch bekannt gegeben \nWichtig! Hunde zunächt im Auto lassen und nur rausholen\, wenn man dran kommt! Sonst wissen die Schlaumeier sofort\, dass sie im Training sind! \nAnmeldung: bitte in die Liste in der Hundeschule eintragen! \nBezahlung bar vor Ort! 
URL:https://hundezentrum-dog-for-fun.de/event/begegnungstraining-4/
CATEGORIES:Hundezentrum Dog For Fun
ATTACH;FMTTYPE=image/jpeg:https://hundezentrum-dog-for-fun.de/wp-content/uploads/Aggressiver-Hund-2.jpg
ORGANIZER;CN="Jeanette Frank-Semelka":MAILTO:info@dog-for-fun-training.de
END:VEVENT
END:VCALENDAR