BEGIN:VCALENDAR
VERSION:2.0
PRODID:-//Hundezentrum Dog For Fun - ECPv6.15.17.1//NONSGML v1.0//EN
CALSCALE:GREGORIAN
METHOD:PUBLISH
X-WR-CALNAME:Hundezentrum Dog For Fun
X-ORIGINAL-URL:https://hundezentrum-dog-for-fun.de
X-WR-CALDESC:Veranstaltungen für Hundezentrum Dog For Fun
REFRESH-INTERVAL;VALUE=DURATION:PT1H
X-Robots-Tag:noindex
X-PUBLISHED-TTL:PT1H
BEGIN:VTIMEZONE
TZID:Europe/Berlin
BEGIN:DAYLIGHT
TZOFFSETFROM:+0100
TZOFFSETTO:+0200
TZNAME:CEST
DTSTART:20250330T010000
END:DAYLIGHT
BEGIN:STANDARD
TZOFFSETFROM:+0200
TZOFFSETTO:+0100
TZNAME:CET
DTSTART:20251026T010000
END:STANDARD
BEGIN:DAYLIGHT
TZOFFSETFROM:+0100
TZOFFSETTO:+0200
TZNAME:CEST
DTSTART:20260329T010000
END:DAYLIGHT
BEGIN:STANDARD
TZOFFSETFROM:+0200
TZOFFSETTO:+0100
TZNAME:CET
DTSTART:20261025T010000
END:STANDARD
BEGIN:DAYLIGHT
TZOFFSETFROM:+0100
TZOFFSETTO:+0200
TZNAME:CEST
DTSTART:20270328T010000
END:DAYLIGHT
BEGIN:STANDARD
TZOFFSETFROM:+0200
TZOFFSETTO:+0100
TZNAME:CET
DTSTART:20271031T010000
END:STANDARD
END:VTIMEZONE
BEGIN:VEVENT
DTSTART;TZID=Europe/Berlin:20260426T100000
DTEND;TZID=Europe/Berlin:20260426T170000
DTSTAMP:20260425T010311
CREATED:20251112T105837Z
LAST-MODIFIED:20251112T105837Z
UID:16004-1777197600-1777222800@hundezentrum-dog-for-fun.de
SUMMARY:Ausdrucksverhalten - den Hund besser lesen können - in Theorie und Praxis
DESCRIPTION:Tagesseminar: Ausdrucksverhalten des Hundes – verstehen\, was Hunde wirklich sagen\nVormittag: Theorie mit vielen Videobeispielen\n„Warum wedelt der Hund mit dem Schwanz\, wenn er gleichzeitig knurrt?“„Oh\, wie schön die spielen – aber warum hat der eine den Schwanz eingeklemmt?“ \nAnhand zahlreicher Videoaufnahmen tauchen wir in die Sprache der Hunde ein. Sie lernen\, Körpersignale richtig zu deuten und zu unterscheiden\, ob ein Verhalten spielerisch\, unsicher oder ernst gemeint ist. Wir besprechen Mimik\, Körperhaltung\, Bewegungsmuster und die feinen Zwischentöne\, die Hunde im sozialen Miteinander zeigen. \nZiel ist\, dass Sie in Zukunft Hundebegegnungen besser einschätzen\, Konflikte früh erkennen und sicherer reagieren können. \nNachmittag: Praxis – Hundebegegnungen & Videoanalyse\nAm Nachmittag beobachten wir reale Hundebegegnungen und -kontakte unter fachkundiger Anleitung. Sie lernen\, das am Vormittag Erlernte live anzuwenden\, Verhalten korrekt zu interpretieren und anschließend in der Videoanalyse zu besprechen. \nEin spannender und erkenntnisreicher Tag für alle\, die Hunde besser verstehen und sicherer führen möchten! \nDauer: 10- ca. 17 Uhr \nKosten: aktive Teams 105\,-Euro\, Begleitpersonen für aktive Teilnehmer (z.B. Ehepartner\, Verwandte) 45\,- Euro\, passive Teams 70\,- Euro
URL:https://hundezentrum-dog-for-fun.de/event/ausdrucksverhalten-den-hund-besser-lesen-koennen-in-theorie-und-praxis/
LOCATION:Hundezentrum Dog for Fun Training\, Robert-Bosch-Str. 18\, Villingendorf\, Baden Württemberg\, 78667\, Germany
CATEGORIES:Hundezentrum Dog For Fun
ATTACH;FMTTYPE=image/jpeg:https://hundezentrum-dog-for-fun.de/wp-content/uploads/IMG_4178-scaled.jpg
ORGANIZER;CN="Jeanette Frank-Semelka":MAILTO:info@dog-for-fun-training.de
END:VEVENT
BEGIN:VEVENT
DTSTART;TZID=Europe/Berlin:20260510T100000
DTEND;TZID=Europe/Berlin:20260510T170000
DTSTAMP:20260425T010311
CREATED:20170615T224745Z
LAST-MODIFIED:20251112T141256Z
UID:2789-1778407200-1778432400@hundezentrum-dog-for-fun.de
SUMMARY:Hundebegegnungen meistern
DESCRIPTION:Stressfreie Hundebegegnungen – Entspannt an anderen Hunden vorbeigehen\nDu wünschst dir endlich entspannte Spaziergänge mit deinem Hund – ohne Stress\, ohne Ziehen\, ohne lautstarkes Theater an der Leine? \nStattdessen sind eure gemeinsamen Runden aktuell geprägt von Anspannung\, weil dein Hund bereits aus der Ferne auf Artgenossen reagiert – sei es mit Bellen\, Ziehen oder gar Pöbeln? Oder Du hast Sorge\, dass dein Hund selbst Opfer einer unangenehmen Hundebegegnung werden könnte? \nDann ist unser Seminar genau das Richtige für euch! \nZiel des Seminars:\nWir möchten dir zeigen\, wie du mit deinem Hund stressfrei an anderen Hunden vorbeikommst – ohne Angst\, Frust oder Hektik. Unser Fokus liegt darauf\, Hundebegegnungen so zu gestalten\, dass sowohl du als auch dein Vierbeiner gelassener und sicherer durchs Leben gehen können. \nDas erwartet dich:\n\n\nVideoanalyse: Wir starten mit einer professionellen Analyse der aktuellen Situation. So erkennen wir die Auslöser und verstehen besser\, warum dein Hund so reagiert. \n\n\nPraxistraining: Du lernst praxiserprobte Techniken und Methoden\, um Hundebegegnungen souverän zu meistern. Dabei stehen Ruhe\, Sicherheit und eine klare Kommunikation im Vordergrund. \n\n\nTeamarbeit stärken: Wir zeigen dir Wege\, wie ihr als Team enger zusammenwachst und dein Hund lernt\, sich an dir zu orientieren – selbst wenn andere Hunde in der Nähe sind. \n\n\nIndividuelle Unterstützung: Jeder Hund-Mensch-Team ist anders. Deshalb gehen wir auf eure individuellen Bedürfnisse und Herausforderungen ein. \n\n\nUnser Ziel:\nAm Ende des Tages hast du nicht nur mehr Wissen\, sondern auch konkrete Strategien an der Hand\, um Spaziergänge endlich wieder entspannt genießen zu können – selbst wenn andere Hunde in Sicht sind. \nDauer: 10-17 Uhr\nKosten: Aktive Teilnahme 105\,-\, (Begleitpersonen für aktive Teilnehmer (z.B. Ehepartner\, Verwandte) 45\,-\, passive Teilnahme (ohne Hund) 70\,-
URL:https://hundezentrum-dog-for-fun.de/event/hundebegegnungen/
LOCATION:Hundezentrum Dog for Fun Training\, Robert-Bosch-Str. 18\, Villingendorf\, Baden Württemberg\, 78667\, Germany
CATEGORIES:Hundezentrum Dog For Fun
ATTACH;FMTTYPE=image/jpeg:https://hundezentrum-dog-for-fun.de/wp-content/uploads/Aggressiver-Hund-2.jpg
ORGANIZER;CN="Jeanette Frank-Semelka":MAILTO:info@dog-for-fun-training.de
END:VEVENT
BEGIN:VEVENT
DTSTART;TZID=Europe/Berlin:20260517T100000
DTEND;TZID=Europe/Berlin:20260517T170000
DTSTAMP:20260425T010311
CREATED:20251112T110657Z
LAST-MODIFIED:20251112T110657Z
UID:16008-1779012000-1779037200@hundezentrum-dog-for-fun.de
SUMMARY:Mantrail - Einsteigerseminar
DESCRIPTION:Tagesseminar: Mantrailing – Nasenarbeit mit Köpfchen\nWas ist Mantrailing?\nBeim Mantrailing sucht der Hund nach einer ganz bestimmten Person – allein anhand ihres individuellen Geruchs. Diese faszinierende Form der Nasenarbeit nutzt die herausragende Fähigkeit des Hundes\, Geruchsspuren über weite Strecken und durch verschiedenste Umgebungen zu verfolgen. \nEs geht dabei nicht um Geschwindigkeit\, sondern um Teamarbeit\, Kommunikation und Vertrauen. Der Mensch lernt\, die feinen Signale seines Hundes zu lesen\, während der Hund lernt\, konzentriert zu arbeiten und eigenständig Lösungen zu finden. \nInhalte des Einstiegsseminars:\nDieses Tagesseminar richtet sich an Anfänger\, die Mantrailing kennenlernen und ausprobieren möchten.Nach einer kurzen theoretischen Einführung zu Geruch\, Spurverhalten und Motivation\, geht es in die Praxis: \n\n\nErste kleine Trails – dem Geruch einer versteckten Person folgen \n\n\nLesen der Körpersprache beim Suchen \n\n\nMotivation und Belohnung richtig einsetzen \n\n\nAufbau eines freudigen\, sicheren Suchverhaltens \n\n\nJedes Team arbeitet individuell nach seinem Tempo\, sodass sowohl ruhige als auch lebhafte Hunde optimal gefördert werden. \nFür wen ist das Seminar geeignet?\nFür alle Hunde – egal ob jung\, alt\, groß oder klein!Es sind keine Vorkenntnisse erforderlich. Auch für schüchterne oder unsichere Hunde bietet Mantrailing eine wunderbare Möglichkeit\, Selbstvertrauen und Bindung zum Menschen zu stärken. \nDauer: 10-17 Uhr\nKosten: Aktive Teilnahme 105\,-\, (Begleitpersonen für aktive Teilnehmer (z.B. Ehepartner\, Verwandte) 45\,-\, passive Teilnahme (ohne Hund) 70\,-
URL:https://hundezentrum-dog-for-fun.de/event/mantrail/
LOCATION:Hundezentrum Dog for Fun Training\, Robert-Bosch-Str. 18\, Villingendorf\, Baden Württemberg\, 78667\, Germany
CATEGORIES:Hundezentrum Dog For Fun
ATTACH;FMTTYPE=image/jpeg:https://hundezentrum-dog-for-fun.de/wp-content/uploads/hundezentrum-dog-for-fun-grundausbildung-03.jpg
ORGANIZER;CN="Jeanette Frank-Semelka":MAILTO:info@dog-for-fun-training.de
END:VEVENT
BEGIN:VEVENT
DTSTART;TZID=Europe/Berlin:20260613T133000
DTEND;TZID=Europe/Berlin:20260613T150000
DTSTAMP:20260425T010311
CREATED:20170615T223408Z
LAST-MODIFIED:20251112T141632Z
UID:2785-1781357400-1781362800@hundezentrum-dog-for-fun.de
SUMMARY:Rückruf-Kurs
DESCRIPTION:Unser Rückruf-Kurs! \nDu rufst deinen Hund – und es kommt die Nachricht: „Dieser Anschluss ist vorübergehend nicht besetzt?“ \nDas wollen wir in dem Kurs ändern! \nUmfassende Theorie über das Rückruftraining – wann kann dein Hund kommen\, warum kommt er manchmal nicht – Aufbau von Orientierung und Impulskontrolle – Einstudieren eines Rückrufwortes und des Pfiffes – Umgang mit Problemen – was mach ich mit meinem Hund\, wenn er nicht kommt? Strafen? Loben? Ignorieren? \n5 Treffen \nKosten: 140\,- pro Team \nKurstage? 13.6.\, 20.6.\, 27.6.\, 4.7.\, 11.7.26 \nUhrzeit? jeweils um 13.30 Uhr
URL:https://hundezentrum-dog-for-fun.de/event/rueckruf-kurs/
LOCATION:Hundezentrum Dog for Fun Training\, Robert-Bosch-Str. 18\, Villingendorf\, Baden Württemberg\, 78667\, Germany
CATEGORIES:Hundezentrum Dog For Fun
ATTACH;FMTTYPE=image/jpeg:https://hundezentrum-dog-for-fun.de/wp-content/uploads/hundeschule-dog-for-fun-training-jeanette-frank-villingendorf-seminare.jpg
ORGANIZER;CN="Jeanette Frank-Semelka":MAILTO:info@dog-for-fun-training.de
END:VEVENT
BEGIN:VEVENT
DTSTART;TZID=Europe/Berlin:20260628T100000
DTEND;TZID=Europe/Berlin:20260628T113000
DTSTAMP:20260425T010311
CREATED:20251112T141749Z
LAST-MODIFIED:20260311T105255Z
UID:16014-1782640800-1782646200@hundezentrum-dog-for-fun.de
SUMMARY:Social Walk – Gemeinsam unterwegs mit deinem Hund!
DESCRIPTION:Social Walk – Gemeinsam unterwegs mit deinem Hund! \nDu suchst eine tolle Möglichkeit\, mit deinem Hund zu trainieren und dabei selbst nette Menschen kennenzulernen? Dann ist unser Social Walk genau das Richtige für dich! \nFreu dich auf einen entspannten\, geführten Spaziergang in netter Runde – dein Hund bleibt dabei angeleint und wird von erfahrenen Trainerinnen und Trainern begleitet. Du erhältst wertvolle Tipps fürs Training im Alltag – ganz ohne Druck\, aber mit viel Freude! \nWas dich erwartet: \n• Geführter Gruppenspaziergang \n• Training in alltagsnaher Umgebung \n• Austausch mit anderen Hundehalter:innen \n• Fachliche Begleitung durch unser Trainer-Team \nTeilnahmegebühr: 20\,- € pro Hund \nTreffpunkt: Raum Rottweil (genauer Ort nach Anmeldung) \nJetzt anmelden! \nSchreib einfach eine WhatsApp an Jeanette Frank-Semelka vom Hundezentrum Dog for Fun unter: \n0179 / 32 766 78 \nAlle Infos erhältst du anschließend über eine WhatsApp-Gruppe.
URL:https://hundezentrum-dog-for-fun.de/event/social-walk-gemeinsam-unterwegs-mit-deinem-hund-6/
LOCATION:Rottweil\, Rottweil\, 78628
CATEGORIES:Hundezentrum Dog For Fun
ATTACH;FMTTYPE=image/jpeg:https://hundezentrum-dog-for-fun.de/wp-content/uploads/96e9341b-ec05-42d7-955a-378d135468de-2.jpg
ORGANIZER;CN="Jeanette Frank-Semelka":MAILTO:info@dog-for-fun-training.de
END:VEVENT
BEGIN:VEVENT
DTSTART;TZID=Europe/Berlin:20260718T130000
DTEND;TZID=Europe/Berlin:20260718T130000
DTSTAMP:20260425T010311
CREATED:20170615T222709Z
LAST-MODIFIED:20260311T092632Z
UID:2783-1784379600-1784379600@hundezentrum-dog-for-fun.de
SUMMARY:Sommerfest mit Schatzsuche
DESCRIPTION:Auch dieses Jahr werden wir wieder den Sommer feiern und gemeinsam wandern gehen. Wir haben uns dieses Mal eine Schatzsuche für euch ausgedacht und freuen uns auf dieses tolle Abenteuer mit euch!\nDanach wollen wir gemeinsam an der Hofboschhütte grillen. \nWann? 18.7.26  ab 13 Uhr Schatzsuche – ab 16 Uhr Grillfest \nWo? Rund um die Hofbochhütte Bösingen \nAnmeldung über die aushängende Liste in der Halle! \nWir freuen uns auf eine tolle Wanderung und ein gemütliches gemeinsames Grillen!
URL:https://hundezentrum-dog-for-fun.de/event/sommerfest/
LOCATION:Bösinger Hütte\, Bösinger Hütte\, Bösingen\, 78662\, Germany
CATEGORIES:Hundezentrum Dog For Fun
ATTACH;FMTTYPE=image/jpeg:https://hundezentrum-dog-for-fun.de/wp-content/uploads/IMG_0548-scaled-1.jpg
ORGANIZER;CN="Jeanette Frank-Semelka":MAILTO:info@dog-for-fun-training.de
END:VEVENT
BEGIN:VEVENT
DTSTART;TZID=Europe/Berlin:20260725T130000
DTEND;TZID=Europe/Berlin:20260725T150000
DTSTAMP:20260425T010311
CREATED:20170712T212838Z
LAST-MODIFIED:20251112T142536Z
UID:2861-1784984400-1784991600@hundezentrum-dog-for-fun.de
SUMMARY:Schwimmkurs für Hunde
DESCRIPTION:Schwimmkurs für Hunde\nDein Hund geht nicht ins Wasser? Du würdest es ihm aber gerne beibringen? Dann kommt hier die Abhilfe! Gesichert mit Schwimmweste und unter physiotherapeutischer Anleitung werden es die Hunde behutsam und schrittweise lernen! Das Ziel dieses Kurses ist die Wassergewöhnung\, wozu jeder Hund in seinem eigenen Tempo lernen kann.\nDas Training findet in der Physiotherapiepraxis von Carola Sandow in Hüfingen statt.\nDer Kurs dauert 1 Stunde\, in der max. 2 Hunde abwechselnd die Möglichkeit bekommen im Swimmingpool zu trainieren. \nTreffpunkt: Physiotherapiepraxis Canis Care\, im Grubengarten 10a\, 78183 Hüfingen\nDauer: 60 Min mit 2 Hunden pro Gruppe\nGruppe 1:  14 Uhr\nGruppe 2:  15 Uhr\nKosten: 40\,- Euro pro Hund\nBitte beachten: Wir bitten um Bezahlung vor Ort! 
URL:https://hundezentrum-dog-for-fun.de/event/schwimmkurs/
LOCATION:Physiopraxis Canis Care\, Im Grubengarten 10a\, Hüfingen\, 78183\, Deutschland
CATEGORIES:Hundezentrum Dog For Fun
ATTACH;FMTTYPE=image/jpeg:https://hundezentrum-dog-for-fun.de/wp-content/uploads/IMG_8553-scaled.jpg
ORGANIZER;CN="Jeanette Frank-Semelka":MAILTO:info@dog-for-fun-training.de
END:VEVENT
BEGIN:VEVENT
DTSTART;TZID=Europe/Berlin:20260823T100000
DTEND;TZID=Europe/Berlin:20260823T113000
DTSTAMP:20260425T010311
CREATED:20250615T110256Z
LAST-MODIFIED:20260311T104651Z
UID:15602-1787479200-1787484600@hundezentrum-dog-for-fun.de
SUMMARY:Social Walk – Gemeinsam unterwegs mit deinem Hund!
DESCRIPTION:Social Walk – Gemeinsam unterwegs mit deinem Hund! \nDu suchst eine tolle Möglichkeit\, mit deinem Hund zu trainieren und dabei selbst nette Menschen kennenzulernen? Dann ist unser Social Walk genau das Richtige für dich! \nFreu dich auf einen entspannten\, geführten Spaziergang in netter Runde – dein Hund bleibt dabei angeleint und wird von erfahrenen Trainerinnen und Trainern begleitet. Du erhältst wertvolle Tipps fürs Training im Alltag – ganz ohne Druck\, aber mit viel Freude! \nWas dich erwartet: \n• Geführter Gruppenspaziergang \n• Training in alltagsnaher Umgebung \n• Austausch mit anderen Hundehalter:innen \n• Fachliche Begleitung durch unser Trainer-Team \nTeilnahmegebühr: 20\,- € pro Hund \nTreffpunkt: Tennenbronn (genauer Ort nach Anmeldung) \nJetzt anmelden! \nSchreib einfach eine WhatsApp an Jeanette Frank-Semelka vom Hundezentrum Dog for Fun unter: \n0179 / 32 766 78 \nAlle Infos erhältst du anschließend über eine WhatsApp-Gruppe.
URL:https://hundezentrum-dog-for-fun.de/event/social-walk-gemeinsam-unterwegs-mit-deinem-hund-4/
LOCATION:Tennenbronn\, Tennenbronn\, Baden-Württtemberg\, Germany
CATEGORIES:Hundezentrum Dog For Fun
ATTACH;FMTTYPE=image/jpeg:https://hundezentrum-dog-for-fun.de/wp-content/uploads/af080699-2e85-4781-a82a-e75c3025dde6-2.jpg
ORGANIZER;CN="Jeanette Frank-Semelka":MAILTO:info@dog-for-fun-training.de
END:VEVENT
BEGIN:VEVENT
DTSTART;TZID=Europe/Berlin:20260906T100000
DTEND;TZID=Europe/Berlin:20260906T170000
DTSTAMP:20260425T010311
CREATED:20171108T000350Z
LAST-MODIFIED:20260408T194223Z
UID:3085-1788688800-1788714000@hundezentrum-dog-for-fun.de
SUMMARY:LaKoKo - Langsamkeit - Konzentration - Koordination
DESCRIPTION:Ist Dein Hund hibbelig oder nervös? Bellt er jeden vorbeilaufenden Hund oder Mensch an? Oder zeigt er sich ängstlich und möchte am liebsten nur weg oder springt in die Leine? Dann ist LaKoKo eine gute Grundlage um an diesen Themen zu arbeiten.  \nLaKoKo ist ein Mentaltraining für Hundehalter\, mit dessen Hilfe nervöse\, leicht reizbare aber auch ängstlich instabile Hunde stabilisiert werden können.  \nWer einen Hund hat\, der ständig nervös und unruhig ist\, hibbelig ist und auf jeden Reiz anspringt\, der sehnt sich nach Gelassenheit und Entschleunigung. In diesem Seminar geht es darum über eine ruhige und entspannte Haltung dem Hund den sicheren Rahmen und die Basis zu mehr Gelassenheit und Ruhe zu geben. LaKoKo steht für Langsamkeit\, Konzentration und Koordination. Über diese 3 Elemente können sich die Hunde mittels einfacher Übungen stabilisieren und zu mehr innerer Ruhe finden. Entscheidend bei der Vermittlung der Übungen ist der Halter\, der dabei selbst ruhig und souverän bleiben muss. \nKarl Semelka – Heilpraktiker für Psychotherapie\, Coach und Yogalehrer – und Björn Schmid  – Hundetrainer – geben  Tipps und Anleitung für einen entspannteren Alltag sowohl für 2-Beiner als auch für den Umgang mit dem 4-B Beiner. Denn oftmals schaukeln sich die Emotionen zwischen Halter und Hund hoch\, wenn der Hund ein unerwünschtes Verhalten zeigt. Dabei wäre das Wichtigste in solchen Situationen souverän aber gelassen zu reagieren! Das Ziel des Seminars ist es an der eigenen Gelassenheit zu arbeiten\, so dass man ruhig aber klar seinem Hund begegnen kann. \nDas Seminar ist insbesondere für fortgeschrittene Teams ausgelegt. Kontaktieren Sie uns gern\, ob das Seminar für Sie geeignet ist.  \nDauer: 10-17 Uhr \nKosten: Aktive Teilnahme 110\,-\,  Begleitpersonen für aktive Teilnehmer (z.B. Ehepartner\, Verwandte) 50\,-\, passive Teilnahme (ohne Hund) 80\,-
URL:https://hundezentrum-dog-for-fun.de/event/lakoko/
LOCATION:Hundezentrum Dog for Fun Training\, Robert-Bosch-Str. 18\, Villingendorf\, Baden Württemberg\, 78667\, Germany
CATEGORIES:Hundezentrum Dog For Fun
ATTACH;FMTTYPE=image/jpeg:https://hundezentrum-dog-for-fun.de/wp-content/uploads/IMG_5356-scaled.jpg
ORGANIZER;CN="Jeanette Frank-Semelka":MAILTO:info@dog-for-fun-training.de
END:VEVENT
BEGIN:VEVENT
DTSTART;TZID=Europe/Berlin:20260930T180000
DTEND;TZID=Europe/Berlin:20260930T193000
DTSTAMP:20260425T010311
CREATED:20250406T111402Z
LAST-MODIFIED:20260408T195956Z
UID:15343-1790791200-1790796600@hundezentrum-dog-for-fun.de
SUMMARY:LaKoKo - Kurs
DESCRIPTION:LaKoKo ist ein Mentaltraining für Hundehalter\, mit dessen Hilfe nervöse\, leicht reizbare aber auch ängstlich instabile Hunde stabilisiert werden können. \nDies ist der Fortführungskurs nach unserem Tagesseminar.  \nTermine Mi um 18 Uhr: 30.9.\, 7.10.\, 21.10.\, 28.10.\, 4.11.26 \nKosten: 140\,- pro Mensch-Hund-Team
URL:https://hundezentrum-dog-for-fun.de/event/lakoko-kurs/
LOCATION:Hundezentrum Dog for Fun Training\, Robert-Bosch-Str. 18\, Villingendorf\, Baden Württemberg\, 78667\, Germany
CATEGORIES:Hundezentrum Dog For Fun
ATTACH;FMTTYPE=image/jpeg:https://hundezentrum-dog-for-fun.de/wp-content/uploads/IMG_7630-1-scaled-e1661083046508.jpg
ORGANIZER;CN="Jeanette Frank-Semelka":MAILTO:info@dog-for-fun-training.de
END:VEVENT
BEGIN:VEVENT
DTSTART;TZID=Europe/Berlin:20261011T100000
DTEND;TZID=Europe/Berlin:20261011T130000
DTSTAMP:20260425T010311
CREATED:20241103T214329Z
LAST-MODIFIED:20260408T202416Z
UID:8340-1791712800-1791723600@hundezentrum-dog-for-fun.de
SUMMARY:Geführte Wanderung im goldenen Oktober
DESCRIPTION:Geführte Wanderung!\nDer Herbst mit all seinen Farben – kühle frische Luft und mit netten Leuten und Hunden unterwegs … auf geht´s zur Herbstwanderung!\nMit festem Schuhwerk und Rucksack wollen wir gemeinsam losziehen.\nGeplant ist neben einem gemeinsamen Picknick\, ein paar gemeinsame Spiele\, die für gute Stimmung sorgen werden.\nWir werden etwa 3 Stunden unterwegs sein und lassen uns von keinem Wetter abschrecken.\nTeilnahmegebühr: 40\,- Euro pro Hund-Mensch-Team\, Begleitpersonen kostenlos \nBezahlung am Veranstaltungstag – Anmeldung via Liste in der Hundeschule oder WhatsApp: 0179/ 32 766 78 !  \nTreffpunkt: wird bekannt gegeben!
URL:https://hundezentrum-dog-for-fun.de/event/gefuehrte-wanderung/
LOCATION:Baden Württemberg
CATEGORIES:Hundezentrum Dog For Fun
ATTACH;FMTTYPE=image/jpeg:https://hundezentrum-dog-for-fun.de/wp-content/uploads/IMG_0147-scaled-e1661083088236.jpg
ORGANIZER;CN="Jeanette Frank-Semelka":MAILTO:info@dog-for-fun-training.de
END:VEVENT
BEGIN:VEVENT
DTSTART;TZID=Europe/Berlin:20261018T100000
DTEND;TZID=Europe/Berlin:20261018T140000
DTSTAMP:20260425T010311
CREATED:20170902T224824Z
LAST-MODIFIED:20260408T195635Z
UID:2942-1792317600-1792332000@hundezentrum-dog-for-fun.de
SUMMARY:Schnüffel-Workshop (Objektsuche + Schnüffelspiele)
DESCRIPTION:Unser beliebter Schnüffel-Workshop!  \nObjektsuche – mal kein gutes Wetter? Dann ist das ein Tag für die Objektsuche! Hierbei lernt der Hund kleine Gegenstände\, die an einen bestimmten Geruch (z.b. Tee oder Lavendel) gekoppelt sind systematisch zu suchen und zu bringen. Die Gegenstände sind dabei zum Teil nur 2 x2 cm groß. \nSchnüffelspiele – mit welchen Aufgaben kann ich die Nasenleistung meines Hundes fördern und ihn spielerisch sinnvoll beschäftigen\, so dass er zufrieden und innerlich ausgeglichen ist. Wir wollen verschiedene Spielideen vorstellen\, die wenig Aufwand haben und großen Nutzen zeigen. \nDieses Seminar dient auch als Vorbereitungsworkshop für die Schnüffel-Gruppe ab Uhrenumstellung – immer Donnerstags 19.15 Uhr!  \nKosten: aktive Teams: 75\,– Euro\, Begleitpersonen für aktive Teilnehmer (z.B. Ehepartner\, Verwandte): 30\,-\, passive Teilnahme (ohne Hund): 55\,-
URL:https://hundezentrum-dog-for-fun.de/event/schnueffel-workshop-objektsuche-schnueffelspiele/
LOCATION:Hundezentrum Dog for Fun Training\, Robert-Bosch-Str. 18\, Villingendorf\, Baden Württemberg\, 78667\, Germany
CATEGORIES:Hundezentrum Dog For Fun
ATTACH;FMTTYPE=image/jpeg:https://hundezentrum-dog-for-fun.de/wp-content/uploads/IMG_4912-scaled-1.jpg
ORGANIZER;CN="Jeanette Frank-Semelka":MAILTO:info@dog-for-fun-training.de
END:VEVENT
BEGIN:VEVENT
DTSTART;TZID=Europe/Berlin:20261025T100000
DTEND;TZID=Europe/Berlin:20261025T113000
DTSTAMP:20260425T010311
CREATED:20171105T224150Z
LAST-MODIFIED:20260408T200240Z
UID:3057-1792922400-1792927800@hundezentrum-dog-for-fun.de
SUMMARY:Begegnungstraining
DESCRIPTION:Probleme bei Hundebegegnungen? Und in unserer dörflichen Gegend kaum Möglichkeiten effektiv zu trainieren?! Dann kommt hier die Lösung: unser Begegnungstraining. Wir teilen uns in 2 Gruppen in Großem Abstand auf und werden immer wieder auf einzelne Hunde aus unserer Schule treffen. \nTreffpunkt: wird noch bekannt gegeben \nWichtig! Hunde zunächt im Auto lassen und nur rausholen\, wenn man dran kommt! Sonst wissen die Schlaumeier sofort\, dass sie im Training sind! \nAnmeldung: bitte in die Liste in der Hundeschule eintragen! \nBezahlung bar vor Ort! 
URL:https://hundezentrum-dog-for-fun.de/event/begegnungstraining-4/
LOCATION:Baden Württemberg
CATEGORIES:Hundezentrum Dog For Fun
ATTACH;FMTTYPE=image/jpeg:https://hundezentrum-dog-for-fun.de/wp-content/uploads/Aggressiver-Hund-2.jpg
ORGANIZER;CN="Jeanette Frank-Semelka":MAILTO:info@dog-for-fun-training.de
END:VEVENT
BEGIN:VEVENT
DTSTART;TZID=Europe/Berlin:20261108T100000
DTEND;TZID=Europe/Berlin:20261108T170000
DTSTAMP:20260425T010311
CREATED:20260408T200445Z
LAST-MODIFIED:20260408T200509Z
UID:16378-1794132000-1794157200@hundezentrum-dog-for-fun.de
SUMMARY:Mantrail - Einsteigerseminar
DESCRIPTION:Tagesseminar: Mantrailing – Nasenarbeit mit Köpfchen\nWas ist Mantrailing?\nBeim Mantrailing sucht der Hund nach einer ganz bestimmten Person – allein anhand ihres individuellen Geruchs. Diese faszinierende Form der Nasenarbeit nutzt die herausragende Fähigkeit des Hundes\, Geruchsspuren über weite Strecken und durch verschiedenste Umgebungen zu verfolgen. \nEs geht dabei nicht um Geschwindigkeit\, sondern um Teamarbeit\, Kommunikation und Vertrauen. Der Mensch lernt\, die feinen Signale seines Hundes zu lesen\, während der Hund lernt\, konzentriert zu arbeiten und eigenständig Lösungen zu finden. \nInhalte des Einstiegsseminars:\nDieses Tagesseminar richtet sich an Anfänger\, die Mantrailing kennenlernen und ausprobieren möchten.Nach einer kurzen theoretischen Einführung zu Geruch\, Spurverhalten und Motivation\, geht es in die Praxis: \n\n\nErste kleine Trails – dem Geruch einer versteckten Person folgen \n\n\nLesen der Körpersprache beim Suchen \n\n\nMotivation und Belohnung richtig einsetzen \n\n\nAufbau eines freudigen\, sicheren Suchverhaltens \n\n\nJedes Team arbeitet individuell nach seinem Tempo\, sodass sowohl ruhige als auch lebhafte Hunde optimal gefördert werden. \nFür wen ist das Seminar geeignet?\nFür alle Hunde – egal ob jung\, alt\, groß oder klein!Es sind keine Vorkenntnisse erforderlich. Auch für schüchterne oder unsichere Hunde bietet Mantrailing eine wunderbare Möglichkeit\, Selbstvertrauen und Bindung zum Menschen zu stärken. \nDauer: 10-17 Uhr\nKosten: Aktive Teilnahme 105\,-\, (Begleitpersonen für aktive Teilnehmer (z.B. Ehepartner\, Verwandte) 45\,-\, passive Teilnahme (ohne Hund) 70\,-
URL:https://hundezentrum-dog-for-fun.de/event/mantrail-einsteigerseminar-copy/
LOCATION:Hundezentrum Dog for Fun Training\, Robert-Bosch-Str. 18\, Villingendorf\, Baden Württemberg\, 78667\, Germany
CATEGORIES:Hundezentrum Dog For Fun
ATTACH;FMTTYPE=image/jpeg:https://hundezentrum-dog-for-fun.de/wp-content/uploads/hundezentrum-dog-for-fun-grundausbildung-03.jpg
ORGANIZER;CN="Jeanette Frank-Semelka":MAILTO:info@dog-for-fun-training.de
END:VEVENT
BEGIN:VEVENT
DTSTART;TZID=Europe/Berlin:20261122T100000
DTEND;TZID=Europe/Berlin:20261122T170000
DTSTAMP:20260425T010311
CREATED:20250406T122114Z
LAST-MODIFIED:20260408T200950Z
UID:15378-1795341600-1795366800@hundezentrum-dog-for-fun.de
SUMMARY:Therapiebegleithundeausbildung
DESCRIPTION:Sie wollen Ihren Hund zum Co-Therpeuten  ausbilden? Sie arbeiten in einem sozialen Beruf oder wollen ehrenamtlich mit Ihrem Hund aktiv werden? Sie oder Ihr Kind sind körperlich oder seelisch eingeschränkt und Sie suchen einen 4-beinigen Unterstützer und Begleiter für den therapeutischen Weg? \nWir können Sie bei Ihrem Vorhaben tatkräftig unterstützen! Durch unsere langjährige Expertise und Weiterbildung sowie viel Erfahrung auf dem Gebiet\, sind wir der richtige Partner an Ihrer Seite. Wir begleiten Sie beim Zertifizierungslehrgang „Therapiebegleithund“.  \nZunächst findet ein Eignungstest Ihres Hundes statt. Bitte vereinbaren Sie dazu einen individuellen Termin.  \nDie Ausbildung findet teils online und teils im Hundezentrum Dog for Fun in 78667 Villingendorf statt. \nAusbildungstart: November 2026:  \n22.11.2026  10-17 Uhr  – live im Hundzentrum Dog for Fun in Villingendorf – Recht und Versicherung – Planung von Einheiten \n20.12.2026 10-14 Uhr – Hybrid (Online oder Live) – Gesundheit und Hygiene \n17.01.2027 10-14 Uhr  – Hybrid (Online oder Live) – Ausdrucksverhalten \n21.02.2027 und 14.03.2027 – Praxistraining – live im Hundzentrum Dog for Fun Training –  jeweils 10-17 Uhr \nDie restliche Stunden werden mittels individuellen Terminen online oder live absolviert. \nWeitere Infos finden Sie hier!\nHier geht es zur Anmeldung!
URL:https://hundezentrum-dog-for-fun.de/event/therapiebegleithundeausbildung/
LOCATION:Hundezentrum Dog for Fun Training\, Robert-Bosch-Str. 18\, Villingendorf\, Baden Württemberg\, 78667\, Germany
CATEGORIES:Hundezentrum Dog For Fun
ATTACH;FMTTYPE=image/jpeg:https://hundezentrum-dog-for-fun.de/wp-content/uploads/hundezentrum-dog-for-fun-inhalte-05.jpg
ORGANIZER;CN="Jeanette Frank-Semelka":MAILTO:info@dog-for-fun-training.de
END:VEVENT
BEGIN:VEVENT
DTSTART;TZID=Europe/Berlin:20261205T180000
DTEND;TZID=Europe/Berlin:20261205T210000
DTSTAMP:20260425T010311
CREATED:20240323T095429Z
LAST-MODIFIED:20260408T202001Z
UID:3326-1796493600-1796504400@hundezentrum-dog-for-fun.de
SUMMARY:Weihnachtsfeier
DESCRIPTION:Unsere traditionelle Weihnachtsfeier mit gemütlichen Beisammensein und schönen Gesprächen. \nWann? Samstag\, 5.12.2026 ab 18 Uhr \nWo?: Säule 5\, Rottweiler Str. 29\, 78667 Villingendorf
URL:https://hundezentrum-dog-for-fun.de/event/weihnachtsfeier-3/
LOCATION:Säule 5\, Rottweiler Str. 29\, Villingendorf\, 78667\, Germany
CATEGORIES:Hundezentrum Dog For Fun
ATTACH;FMTTYPE=image/jpeg:https://hundezentrum-dog-for-fun.de/wp-content/uploads/IMG_8156-scaled-1.jpg
ORGANIZER;CN="Jeanette Frank-Semelka":MAILTO:info@dog-for-fun-training.de
END:VEVENT
END:VCALENDAR